Workbook

Sheet AT&T Income Statement
A1: Created by EDGAR Online, Inc.
A3: AT&T INC.
A4: INCOME_STATEMENT
A5: Form Type: 10-K
A6: Period End: Dec 31, 2019
A7: Date Filed: Feb 20, 2020
A8: Table Of Contents
B10: AT&T Inc.
B11: Dollars in millions except per share amounts
B16: Consolidated Statements of Income
C17: 2019 | D17: 2018 | E17: 2017 | F17: 2016 | G17: 2015
B18: Operating Revenues
B19: Service | C19: 163499 | D19: 152345 | E19: 145597 | F19: 148884 | G19: 131677
B20: Equipment | C20: 17694 | D20: 18411 | E20: 14949 | F20: 14902 | G20: 15124
B21: Total operating revenues | C21: 181193 | D21: 170756 | E21: 160546 | F21: 163786 | G21: 146801
B23: Operating Expenses
B24: Cost of revenues
B25: Equipment | C25: 18653 | D25: 19786 | E25: 18709 | F25: 18757 | G25: 19268
B26: Broadcast, programming and operations | C26: 31132 | D26: 26727 | E26: 21159 | F26: 19851 | G26: 11996
B27: Other cost of revenues (exclusive of depreciation
B28: and amortization shown separately below) | C28: 34356 | D28: 32906 | E28: 37942 | F28: 38582 | G28: 35782
B29: Selling, general and administrative | C29: 39422 | D29: 36765 | E29: 35465 | F29: 36845 | G29: 32919
B30: Asset abandonments and impairments | C30: 1458 | D30: 46 | E30: 2914 | F30: 361 | G30: 35
B31: Depreciation and amortization | C31: 28217 | D31: 28430 | E31: 24387 | F31: 25847 | G31: 22016
B32: Total operating expenses | C32: 153238 | D32: 144660 | E32: 140576 | F32: 140243 | G32: 122016
B33: Operating Income | C33: 27955 | D33: 26096 | E33: 19970 | F33: 23543 | G33: 24785
B35: Other Income (Expense)
B36: Interest expense | C36: -8422 | D36: -7957 | E36: -6300 | F36: -4910 | G36: -4120
B37: Equity in net income (loss) of affiliates | C37: 6 | D37: -48 | E37: -128 | F37: 98 | G37: 79
B38: Other income (expense) - net | C38: -1071 | D38: 6782 | E38: 1597 | F38: 1081 | G38: -52
B39: Total other income (expense) | C39: -9487 | D39: -1223 | E39: -4831 | F39: -3731 | G39: -4093
B40: Income Before Income Taxes | C40: 18468 | D40: 24873 | E40: 15139 | F40: 19812 | G40: 20692
B41: Income tax (benefit) expense | C41: 3493 | D41: 4920 | E41: -14708 | F41: 6479 | G41: 7005
B42: Net Income | C42: 14975 | D42: 19953 | E42: 29847 | F42: 13333 | G42: 13687
B43: Less: Net Income Attributable to Noncontrolling
B44: Interest | C44: -1072 | D44: -583 | E44: -397 | F44: -357 | G44: -342
B45: Net Income Attributable to AT&T | C45: 13903 | D45: 19370 | E45: 29450 | F45: 12976 | G45: 13345
B46: Less: Preferred Stock Dividends | C46: -3 | D46: 0 | E46: 0
B47: Net Income Attributable to Common Stock | C47: 13900 | D47: 19370 | E47: 29450
B49: Basic Earnings Per Share Attributable to Common
...

Sheet AT&T Balance Sheet
A1: Created by EDGAR Online, Inc.
A3: AT&T INC.
A4: BALANCE_SHEET
A5: Form Type: 10-K
A6: Period End: Dec 31, 2019
A7: Date Filed: Feb 20, 2020
A8: Table Of Contents
B10: AT&T Inc.
B11: Dollars in millions except per share amounts
B16: Consolidated Balance Sheets
C17: December 31,
C18: 2019 | D18: 2018 | E18: 2017 | F18: 2016 | G18: 2015
B19: Assets
B20: Current Assets
B21: Cash and cash equivalents | C21: 12130 | D21: 5204 | E21: 50498 | F21: 5788 | G21: 5121
B22: Accounts receivable - net of allowances for doubtful
B23: accounts of $1,235 and $907 | C23: 22636 | D23: 26472 | E23: 16522 | F23: 16794 | G23: 16532
B24: Prepaid expenses | C24: 1631 | D24: 2047 | E24: 1369 | F24: 1555 | G24: 1072
B25: Other current assets | C25: 18364 | D25: 17704 | E25: 10757 | F25: 14232 | G25: 13267
B26: Total current assets | C26: 54761 | D26: 51427 | E26: 79146 | F26: 38369 | G26: 35992
B27: Noncurrent inventories and theatrical film and television
B28: production costs | C28: 12434 | D28: 7713 | E28: 0 | F28: 0 | G28: 0
B29: Property, Plant and Equipment - Net | C29: 130128 | D29: 131473 | E29: 125222 | F29: 124899 | G29: 124450
B30: Goodwill | C30: 146241 | D30: 146370 | E30: 105449 | F30: 105207 | G30: 104568
B31: Licenses - Net | C31: 97907 | D31: 96144 | E31: 96136 | F31: 94176 | G31: 93093
B32: Trademarks and Trade Names - Net | C32: 23567 | D32: 24345 | E32: 7021
B33: Distribution Networks - Net | C33: 15345 | D33: 17069 | E33: 0 | F33: 14243 | G33: 18208
B34: Other Intangible Assets - Net | C34: 20798 | D34: 26269 | E34: 11119 | F34: 8441 | G34: 9409
B35: Investments in and Advances to Equity Affiliates | C35: 3695 | D35: 6245 | E35: 1560 | F35: 1674 | G35: 1606
B36: Operating lease right-of-use assets | C36: 24039 | D36: 0 | E36: 18444
B37: Other Assets | C37: 22754 | D37: 24809 | F37: 16812 | G37: 15346
B38: Total Assets | C38: 551669 | D38: 531864 | E38: 444097 | F38: 403821 | G38: 402672
B40: Liabilities and Stockholders' Equity
B41: Current Liabilities
B42: Debt maturing within one year | C42: 11838 | D42: 10255 | E42: 38374 | F42: 9832 | G42: 7636
B43: Accounts payable and accrued liabilities | C43: 45956 | D43: 43184 | E43: 34470 | F43: 31138 | G43: 30372
B44: Advanced billings and customer deposits | C44: 6124 | D44: 5948 | E44: 4213 | F44: 4519 | G44: 4682
B45: Accrued taxes | C45: 1212 | D45: 1179 | E45: 1262 | F45: 2079 | G45: 2176
B46: Dividends payable | C46: 3781 | D46: 3854 | E46: 3070 | F46: 3008 | G46: 2950
B47: Total current liabilities | C47: 68911 | D47: 64420 | E47: 81389 | F47: 50576 | G47: 47816
...

Sheet Verizon Income Statement
A1: Created by EDGAR Online, a division of Donnelley Financial Solutions
A3: VERIZON COMMUNICATIONS INC
A4: INCOME_STATEMENT2
A5: Form Type: 10-K
A6: Period End: Dec 31, 2019
A7: Date Filed: Feb 21, 2020
B9: Consolidated Statements of Income Verizon Communications Inc. and Subsidiaries
C13: (dollars in millions, except per share amounts)
B14: Years Ended December 31, | C14: 2019 | D14: 2018 | E14: 2017 | F14: 2016 | G14: 2015 | H14: 2014
B16: Operating Revenues
B17: Service revenues and other | C17: 110305 | D17: 108605 | E17: 107145 | F17: 108468 | G17: 114696 | H17: 116122
B18: Wireless equipment revenues | C18: 21563 | D18: 22258 | E18: 18889 | F18: 17512 | G18: 16924 | H18: 10957
B19: Total Operating Revenues | C19: 131868 | D19: 130863 | E19: 126034 | F19: 125980 | G19: 131620 | H19: 127079
B21: Operating Expenses
B22: Cost of services (exclusive of items shown
B23: below) | C23: 31772 | D23: 32185 | E23: 30916 | F23: 29186 | G23: 29438 | H23: 28306
B24: Cost of wireless equipment | C24: 22954 | D24: 23323 | E24: 22147 | F24: 22238 | G24: 23119 | H24: 21625
B25: Selling, general and administrative expense
B26: (including net gain/(loss) on sale of divested
B27: businesses of $(94), $0 and $1,774,
B28: respectively) | C28: 29896 | D28: 31083 | E28: 28592 | F28: 31569 | G28: 29986 | H28: 41016
B29: Depreciation and amortization expense | C29: 16682 | D29: 17403 | E29: 16954 | F29: 15928 | G29: 16017 | H29: 16533
B30: Media goodwill impairment | C30: 186 | D30: 4591 | E30: 0
B31: Total Operating Expenses | C31: 101490 | D31: 108585 | E31: 98609 | F31: 98921 | G31: 98560 | H31: 107480
B33: Operating Income | C33: 30378 | D33: 22278 | E33: 27425 | F33: 27059 | G33: 33060 | H33: 19599
B34: Equity in losses of unconsolidated businesses | C34: -15 | D34: -186 | E34: -77 | F34: -98 | G34: -86 | H34: 1780
B35: Other income (expense), net | C35: -2900 | D35: 2364 | E35: -2021 | F35: -1599 | G35: 186 | H35: -1194
B36: Interest expense | C36: -4730 | D36: -4833 | E36: -4733 | F36: -4376 | G36: -4920 | H36: -4915
B37: Income Before (Provision) Benefit For Income
B38: Taxes | C38: 22733 | D38: 19623 | E38: 20594 | F38: 20986 | G38: 28240 | H38: 15270
B39: (Provision) benefit for income taxes | C39: -2945 | D39: -3584 | E39: 9956 | F39: -7378 | G39: -9865 | H39: -3314
B40: Net Income | C40: 19788 | D40: 16039 | E40: 30550 | F40: 13608 | G40: 18375 | H40: 11956
B42: Net income attributable to noncontrolling
B43: interests | C43: 523 | D43: 511 | E43: 449 | F43: 481 | G43: 496 | H43: 2331
B44: Net income attributable to Verizon | C44: 19265 | D44: 15528 | E44: 30101 | F44: 13127 | G44: 17879 | H44: 9625
B45: Net Income | C45: 19788 | D45: 16039 | E45: 30550 | F45: 13608 | G45: 18375 | H45: 11956
B47: Basic Earnings Per Common Share
B48: Net income attributable to Verizon | C48: 4.66 | D48: 3.76 | E48: 7.37 | F48: 3.22 | G48: 4.38 | H48: 2.42
B49: Weighted-average shares outstanding (in
B50: millions) | C50: 4138 | D50: 4128 | E50: 4084 | F50: 4080 | G50: 4085 | H50: 3974
...

Sheet Verizon Balance Sheet
A1: Created by EDGAR Online, a division of Donnelley Financial Solutions
A3: VERIZON COMMUNICATIONS INC
A4: BALANCE_SHEET2
A5: Form Type: 10-K
A6: Period End: Dec 31, 2019
A7: Date Filed: Feb 21, 2020
B9: Consolidated Balance Sheets Verizon Communications Inc. and Subsidiaries
B11: (dollars in millions, except per share amounts)
B12: At December 31, | C12: 2019 | D12: 2018 | E12: 2017 | F12: 2016 | G12: 2015
B14: Assets
B15: Current assets
B16: Cash and cash equivalents | C16: 2594 | D16: 2745 | E16: 2079 | F16: 2880 | G16: 4470
B17: Short-term investments | G17: 350
B18: Accounts receivable, net of allowances of $733 and $765 | C18: 25429 | D18: 25102 | E18: 23493 | F18: 17513 | G18: 13457
B19: Inventories | C19: 1422 | D19: 1336 | E19: 1034 | F19: 1202 | G19: 1252
B20: Assets Held for Sale | C20: 8028 | D20: 5453 | E20: 0 | F20: 882 | G20: 792
B21: Prepaid expenses and other | E21: 3307 | F21: 3918 | G21: 2034
B22: Total current assets | C22: 37473 | D22: 34636 | E22: 29913 | F22: 26395 | G22: 22355
B25: Property, plant and equipment | C25: 265734 | D25: 252835 | E25: 246498 | F25: 232215 | G25: 220163
B26: Less accumulated depreciation | C26: 173819 | D26: 163549 | E26: 157930 | F26: 147464 | G26: 136622
B27: Property, plant and equipment, net | C27: 91915 | D27: 89286 | E27: 88568 | F27: 84751 | G27: 83541
B29: Investments in unconsolidated businesses | C29: 558 | D29: 671 | E29: 1039 | F29: 1110 | G29: 796
B30: Wireless licenses | C30: 95059 | D30: 94130 | E30: 88417 | F30: 86673 | G30: 86575
B31: Goodwill | C31: 24389 | D31: 24614 | E31: 29172 | F31: 27205 | G31: 25331
B32: Other intangible assets, net | C32: 9498 | D32: 9775 | E32: 10247 | F32: 8897 | G32: 7592
B33: Operating lease right-of-use assets | C33: 22694 | D33: 0 | E33: 0 | F33: 613 | G33: 10267
B34: Other assets | C34: 10141 | D34: 11717 | E34: 9787 | F34: 8536 | G34: 7718
B35: Total assets | C35: 291727 | D35: 264829 | E35: 257143 | F35: 244180 | G35: 244175
B37: Liabilities and Equity
B38: Current liabilities
B39: Debt maturing within one year | C39: 10777 | D39: 7190 | E39: 3453 | F39: 2645 | G39: 6489
B40: Accounts payable and accrued liabilities | C40: 21806 | D40: 22501 | E40: 21232 | F40: 19593 | G40: 19362
B41: Current operating lease liabilities | C41: 3261 | D41: 0 | E41: 0 | F41: 24 | G41: 463
B42: Other current liabilities | C42: 9024 | D42: 8239 | E42: 8352 | F42: 8078 | G42: 8738
B43: Total current liabilities | C43: 44868 | D43: 37930 | E43: 33037 | F43: 30340 | G43: 35052
B45: Long-term debt | C45: 100712 | D45: 105873 | E45: 113642 | F45: 105433 | G45: 103240
B46: Employee benefit obligations | C46: 17952 | D46: 18599 | E46: 22112 | F46: 26166 | G46: 29957
B47: Deferred income taxes | C47: 34703 | D47: 33795 | E47: 31232 | F47: 45964 | G47: 45484
B48: Non-current operating lease liabilities | C48: 18393 | D48: 0 | E48: 12433 | F48: 6 | G48: 959
B49: Other liabilities | C49: 12264 | D49: 13922 | E49: 179419 | F49: 12239 | G49: 11641
...

Sheet FIRM VALUATION

Sheet Profitability Ratio
A3: DuPont Analysis
A5: ROE = ROA * FL
A7: ROA = Net Income/Avg Total Assets
A8: ROA measures company performance; how assets are being utilized to generate net income. For every dollar of asset, how much income is generated? ROA focuses on utilizing assets to achieve desired profit; managers want to increase profits with the same level of increase in assets, and decrease assets w/o decreasing profits.
A9: FL = Avg Total Assets/Avg Total Stockholder's Equity
A10: FL measures how assets are financed using liabilities and SE.
A11: ROE = (Net Income/Sales)*(Sales/Avg Total Assets)*(Avg Total Assets/Avg SE)
A12: ROE = Net Income/Avg Stockholder's Equity
A13: ROE measures accounting return to shareholders using net income and the book value of SE.
A15: *Amounts are gathered from income statement and balance sheet for YE Dec. 31, 2019.
A16: *FS are extracted from the 10-K report filed on Feb 2020
B17: AT&T | H17: VERIZON
B18: 2019 | C18: 2018 | D18: 2017 | E18: 2016 | F18: 2015 | H18: 2019 | I18: 2018 | J18: 2017 | K18: 2016 | L18: 2015
A19: Net Income | B19: ='AT&T Income Statement'!C42 -> 14975 | C19: ='AT&T Income Statement'!D42 -> 19953 | D19: ='AT&T Income Statement'!E42 -> 29847 | E19: ='AT&T Income Statement'!F42 -> 13333 | F19: ='AT&T Income Statement'!G42 -> 13687 | H19: ='Verizon Income Statement'!C40 -> 19788 | I19: ='Verizon Income Statement'!D40 -> 16039 | J19: ='Verizon Income Statement'!E40 -> 30550 | K19: ='Verizon Income Statement'!F40 -> 13608 | L19: ='Verizon Income Statement'!G40 -> 18375
A20: Avg Total Assets | B20: =AVERAGE('AT&T Balance Sheet'!C38:D38) -> 541766.5 | C20: =AVERAGE('AT&T Balance Sheet'!D38:E38) -> 487980.5 | D20: =AVERAGE('AT&T Balance Sheet'!E38:F38) -> 423959 | E20: =AVERAGE('AT&T Balance Sheet'!F38:G38) -> 403246.5 | F20: =AVERAGE('AT&T Balance Sheet'!G38:H38) -> 402672 | H20: =AVERAGE('Verizon Balance Sheet'!C35:D35) -> 278278 | I20: =AVERAGE('Verizon Balance Sheet'!D35:E35) -> 260986 | J20: =AVERAGE('Verizon Balance Sheet'!E35:F35) -> 250661.5 | K20: =AVERAGE('Verizon Balance Sheet'!F35:G35) -> 244177.5 | L20: =AVERAGE('Verizon Balance Sheet'!G35:H35) -> 244175
A21: Avg Stockholder's Equity | B21: =AVERAGE('AT&T Balance Sheet'!C73:D73) -> 197909 | C21: =AVERAGE('AT&T Balance Sheet'!D73:E73) -> 167945.5 | D21: =AVERAGE('AT&T Balance Sheet'!E73:F73) -> 133058.5 | E21: =AVERAGE('AT&T Balance Sheet'!F73:G73) -> 123875 | F21: =AVERAGE('AT&T Balance Sheet'!G73:H73) -> 123640 | H21: =AVERAGE('Verizon Balance Sheet'!C68:D68) -> 58772.5 | I21: =AVERAGE('Verizon Balance Sheet'!D68:E68) -> 49698.5 | J21: =AVERAGE('Verizon Balance Sheet'!E68:F68) -> 34359.5 | K21: =AVERAGE('Verizon Balance Sheet'!F68:G68) -> 20937 | L21: =AVERAGE('Verizon Balance Sheet'!G68:H68) -> 17842
A23: ROA | B23: =B19/B20 -> 0.027641059 | C23: =C19/C20 -> 0.040888929 | D23: =D19/D20 -> 0.070400676 | E23: =E19/E20 -> 0.033064143 | F23: =F19/F20 -> 0.033990444 | H23: =H19/H20 -> 0.071108747 | I23: =I19/I20 -> 0.061455404 | J23: =J19/J20 -> 0.12187751 | K23: =K19/K20 -> 0.055729951 | L23: =L19/L20 -> 0.075253404
A24: FL | B24: =B20/B21 -> 2.7374526 | C24: =C20/C21 -> 2.9055884 | D24: =D20/D21 -> 3.1862602 | E24: =E20/E21 -> 3.2552694 | F24: =F20/F21 -> 3.2568101 | H24: =H20/H21 -> 4.7348335 | I24: =I20/I21 -> 5.2513859 | J24: =J20/J21 -> 7.2952604 | K24: =K20/K21 -> 11.662487 | L24: =L20/L21 -> 13.685405
A25: ROE | B25: =B23*B24 -> 0.075666089 | C25: =C23*C24 -> 0.1188064 | D25: =D23*D24 -> 0.22431487 | E25: =E23*E24 -> 0.10763269 | F25: =F23*F24 -> 0.11070042 | H25: =H23*H24 -> 0.33668808 | I25: =I23*I24 -> 0.32272604 | J25: =J23*J24 -> 0.88912819 | K25: =K23*K24 -> 0.64994985 | L25: =L23*L24 -> 1.0298733
A29: RNOA = NOPAT/NOA = NOPM*NOAT
A30: =(NOPAT/Sales)*(Sales/Avg NOA)
A32: NOPM = NOPAT/Sales
A33: How much operating profit a company earns for each sales dollar. The higher the better.
A35: NOAT = Sales/Avg NOA
A36: Measures the company's productivity of net operating assets. For each dollar of net operating assets, the company realizes x in sales. The higher the better
A39: NOPAT = NOPBT - Tax on operating profit
A40: Tax on operating profit = Tax Expense + (Pretax net nonoperating expense * statutory rate)
A41: Tax shield = (pretax net nonoperating expense * statutory rate) taxes that a company saves by having tax-deductible nonoperating expense; a negative tax shield means that the company is paying more tax than it would've paid if not for the additional nonoperating income
A43: NOPAT measures the return on the company's main operations
A44: RNOA measures the revenue generated from net operating assets; the higher the better
A48: AT&T | H48: Verizon
B49: 2019 | C49: 2018 | D49: 2017 | E49: 2016 | F49: 2015 | H49: 2019 | I49: 2018 | J49: 2017 | K49: 2016 | L49: 2015
A50: Operating Assets | B50: ='AT&T Balance Sheet'!C38-'AT&T Balance Sheet'!C21-'AT&T Balance Sheet'!C28 -> 527105 | C50: ='AT&T Balance Sheet'!D38-'AT&T Balance Sheet'!D21-'AT&T Balance Sheet'!D28 -> 518947 | D50: ='AT&T Balance Sheet'!E38-'AT&T Balance Sheet'!E21-'AT&T Balance Sheet'!E28 -> 393599 | E50: ='AT&T Balance Sheet'!F38-'AT&T Balance Sheet'!F21-'AT&T Balance Sheet'!F28 -> 398033 | F50: ='AT&T Balance Sheet'!G38-'AT&T Balance Sheet'!G21-'AT&T Balance Sheet'!G28 -> 397551 | H50: ='Verizon Balance Sheet'!C35-'Verizon Balance Sheet'!C16 -> 289133 | I50: ='Verizon Balance Sheet'!D35-'Verizon Balance Sheet'!D16 -> 262084 | J50: ='Verizon Balance Sheet'!E35-'Verizon Balance Sheet'!E16 -> 255064 | K50: ='Verizon Balance Sheet'!F35-'Verizon Balance Sheet'!F16 -> 241300 | L50: ='Verizon Balance Sheet'!G35-'Verizon Balance Sheet'!G16 -> 239705
A51: Operating Liabilities | B51: ='AT&T Balance Sheet'!C55-'AT&T Balance Sheet'!C42-'AT&T Balance Sheet'!C48 -> 186588 | C51: ='AT&T Balance Sheet'!D55-'AT&T Balance Sheet'!D42-'AT&T Balance Sheet'!D48 -> 161475 | D51: ='AT&T Balance Sheet'!E55-'AT&T Balance Sheet'!E42-'AT&T Balance Sheet'!E48 -> 137744 | E51: ='AT&T Balance Sheet'!F55-'AT&T Balance Sheet'!F42-'AT&T Balance Sheet'!F48 -> 156198 | F51: ='AT&T Balance Sheet'!G55-'AT&T Balance Sheet'!G42-'AT&T Balance Sheet'!G48 -> 152881 | H51: ='Verizon Balance Sheet'!C52-'Verizon Balance Sheet'!C39-'Verizon Balance Sheet'!C45 -> 117403 | I51: ='Verizon Balance Sheet'!D52-'Verizon Balance Sheet'!D39-'Verizon Balance Sheet'!D45 -> 97056 | J51: ='Verizon Balance Sheet'!E52-'Verizon Balance Sheet'!E39-'Verizon Balance Sheet'!E45 -> 274780 | K51: ='Verizon Balance Sheet'!F52-'Verizon Balance Sheet'!F39-'Verizon Balance Sheet'!F45 -> 112070 | L51: ='Verizon Balance Sheet'!G52-'Verizon Balance Sheet'!G39-'Verizon Balance Sheet'!G45 -> 116604
A52: NOA | B52: =B50-B51 -> 340517 | C52: =C50-C51 -> 357472 | D52: =D50-D51 -> 255855 | E52: =E50-E51 -> 241835 | F52: =F50-F51 -> 244670 | H52: =H50-H51 -> 171730 | I52: =I50-I51 -> 165028 | J52: =J50-J51 -> -19716 | K52: =K50-K51 -> 129230 | L52: =L50-L51 -> 123101
A54: Average NOA | B54: =AVERAGE(B52:C52) -> 348994.5 | C54: =AVERAGE(C52:D52) -> 306663.5 | D54: =AVERAGE(D52:E52) -> 248845 | E54: =AVERAGE(E52:F52) -> 243252.5 | H54: =AVERAGE(H52:I52) -> 168379 | I54: =AVERAGE(I52:J52) -> 72656 | J54: =AVERAGE(J52:K52) -> 54757 | K54: =AVERAGE(K52:L52) -> 126165.5
A56: Statutory Tax Rate | B56: ='AT&T Income Statement'!C41/'AT&T Income Statement'!C40 -> 0.18913797 | C56: ='AT&T Income Statement'!D41/'AT&T Income Statement'!D40 -> 0.19780485 | D56: ='AT&T Income Statement'!E41/'AT&T Income Statement'!E40 -> -0.97153048 | E56: ='AT&T Income Statement'!F41/'AT&T Income Statement'!F40 -> 0.32702403 | H56: =ABS('Verizon Income Statement'!C39/'Verizon Income Statement'!C38) -> 0.12954735 | I56: =ABS('Verizon Income Statement'!D39/'Verizon Income Statement'!D38) -> 0.18264282 | J56: =ABS('Verizon Income Statement'!E39/'Verizon Income Statement'!E38) -> 0.48344178 | K56: =ABS('Verizon Income Statement'!F39/'Verizon Income Statement'!F38) -> 0.35156771
A58: NOPBT | B58: ='AT&T Income Statement'!C33 -> 27955 | C58: ='AT&T Income Statement'!D33 -> 26096 | D58: ='AT&T Income Statement'!E33 -> 19970 | E58: ='AT&T Income Statement'!F33 -> 23543 | H58: ='Verizon Income Statement'!C33 -> 30378 | I58: ='Verizon Income Statement'!D33 -> 22278 | J58: ='Verizon Income Statement'!E33 -> 27425 | K58: ='Verizon Income Statement'!F33 -> 27059
A60: Nonoperating items before tax | B60: ='AT&T Income Statement'!C39 -> -9487 | C60: ='AT&T Income Statement'!D39 -> -1223 | D60: ='AT&T Income Statement'!E39 -> -4831 | E60: ='AT&T Income Statement'!F39 -> -3731 | H60: ='Verizon Income Statement'!C35+'Verizon Income Statement'!C36 -> -7630 | I60: ='Verizon Income Statement'!D35+'Verizon Income Statement'!D36 -> -2469 | J60: ='Verizon Income Statement'!E35+'Verizon Income Statement'!E36 -> -6754 | K60: ='Verizon Income Statement'!F35+'Verizon Income Statement'!F36 -> -5975
A61: Less Tax Shield at 19% | B61: =B60*B56 -> -1794.3519 | C61: =C60*C56 -> -241.91533 | D61: =D60*D56 -> 4693.4638 | E61: =E60*E56 -> -1220.1266 | H61: =H56*H60 -> -988.44631 | I61: =I56*I60 -> -450.94512 | J61: =J56*J60 -> -3265.1658 | K61: =K56*K60 -> -2100.6171
...

Sheet Productivity Ratio
A2: AT&T | B2: 2019 | C2: =B2-1 -> 2018 | D2: =C2-1 -> 2017 | E2: =D2-1 -> 2016
A3: Accounts Receivable Turnover | B3: ='AT&T Income Statement'!C21/AVERAGE('AT&T Balance Sheet'!C23:D23) -> 7.3793679 | C3: ='AT&T Income Statement'!D21/AVERAGE('AT&T Balance Sheet'!D23:E23) -> 7.9432479 | D3: ='AT&T Income Statement'!E21/AVERAGE('AT&T Balance Sheet'!E23:F23) -> 9.6377716 | E3: ='AT&T Income Statement'!F21/AVERAGE('AT&T Balance Sheet'!F23:G23) -> 9.8293225
A4: Sales / Average Accounts Receivable
A6: Inventory Turnover | B6: =(SUM('AT&T Income Statement'!C25:C26)/AVERAGE('AT&T Balance Sheet'!C28:D28)) -> 4.942175 | C6: =(SUM('AT&T Income Statement'!D25:D26)/AVERAGE('AT&T Balance Sheet'!D28:E28)) -> 12.060936 | D6: Inventory not Identified
A7: COGS / Average Inventories
A9: Accounts Payable Turnover | B9: =('AT&T Income Statement'!C25+'AT&T Income Statement'!C26)/AVERAGE('AT&T Balance Sheet'!C43,'AT&T Balance Sheet'!D43) -> 1.117007 | C9: =('AT&T Income Statement'!D25+'AT&T Income Statement'!D26)/AVERAGE('AT&T Balance Sheet'!D43,'AT&T Balance Sheet'!E43) -> 1.197955 | D9: =('AT&T Income Statement'!E25+'AT&T Income Statement'!E26)/AVERAGE('AT&T Balance Sheet'!E43,'AT&T Balance Sheet'!F43) -> 1.2153396 | E9: =('AT&T Income Statement'!F25+'AT&T Income Statement'!F26)/AVERAGE('AT&T Balance Sheet'!F43,'AT&T Balance Sheet'!G43) -> 1.2553406
A10: COGS / Average Accounts Payable
A12: Cash Conversion Cycle (DSO + DIO - DPO): | B12: =B13+B14-B15 -> -203.44974 | C12: =C13+C14-C15 -> -228.47193 | D12: =D13+D14-D15 -> -262.45576 | E12: =E13+E14-E15 -> -253.62395
A13: Days Sales Outstanding (365/AR Turnover) | B13: =365/B3 -> 49.462231 | C13: =365/C3 -> 45.950977 | D13: =365/D3 -> 37.871825 | E13: =365/E3 -> 37.13379
A14: Days Inventory Outstanding (365/Inventory Turnover) | B14: =365/B6 -> 73.854123 | C14: =365/C6 -> 30.262991 | D14: 0 | E14: 0
A15: Days Payables outstanding (365/AP Turnover) | B15: =365/B9 -> 326.76609 | C15: =365/C9 -> 304.68589 | D15: =365/D9 -> 300.32758 | E15: =365/E9 -> 290.75774
A16: CCC not including inventory | B16: =B13-B15 -> -277.30386 | C16: =C13-C15 -> -258.73492 | D16: =D13-D15 -> -262.45576 | E16: =E13-E15 -> -253.62395
A18: PPE Turnover | B18: =('AT&T Income Statement'!C25+'AT&T Income Statement'!C26)/AVERAGE('AT&T Balance Sheet'!C29:D29) -> 0.38061781 | C18: =('AT&T Income Statement'!D25+'AT&T Income Statement'!D26)/AVERAGE('AT&T Balance Sheet'!D29:E29) -> 0.36239896 | D18: =('AT&T Income Statement'!E25+'AT&T Income Statement'!E26)/AVERAGE('AT&T Balance Sheet'!E29:F29) -> 0.31878971 | E18: =('AT&T Income Statement'!F25+'AT&T Income Statement'!F26)/AVERAGE('AT&T Balance Sheet'!F29:G29) -> 0.30967038
A19: Sales / Average PPE Assets
A26: Verizon
A27: Accounts Receivable Turnover | B27: ='Verizon Income Statement'!C19/AVERAGE('Verizon Balance Sheet'!C18:D18) -> 5.2192911 | C27: ='Verizon Income Statement'!D19/AVERAGE('Verizon Balance Sheet'!D18:E18) -> 5.3858627 | D27: ='Verizon Income Statement'!E19/AVERAGE('Verizon Balance Sheet'!E18:F18) -> 6.1471004 | E27: ='Verizon Income Statement'!F19/AVERAGE('Verizon Balance Sheet'!F18:G18) -> 8.1356151
A28: Sales / Average Accounts Receivable
A30: Inventory Turnover | B30: =SUM('Verizon Income Statement'!C23:C24)/AVERAGE('Verizon Balance Sheet'!C19:D19) -> 39.685279 | C30: =SUM('Verizon Income Statement'!D23:D24)/AVERAGE('Verizon Balance Sheet'!D19:E19) -> 46.842194 | D30: =SUM('Verizon Income Statement'!E23:E24)/AVERAGE('Verizon Balance Sheet'!E19:F19) -> 47.462433 | E30: =SUM('Verizon Income Statement'!F23:F24)/AVERAGE('Verizon Balance Sheet'!F19:G19) -> 41.91035
A31: COGS / Average Inventories
A33: Accounts Payable Turnover | B33: =SUM('Verizon Income Statement'!C23:C24)/AVERAGE('Verizon Balance Sheet'!C40:D40) -> 2.4703094 | C33: =SUM('Verizon Income Statement'!D23:D24)/AVERAGE('Verizon Balance Sheet'!D40:E40) -> 2.538495 | D33: =SUM('Verizon Income Statement'!E23:E24)/AVERAGE('Verizon Balance Sheet'!E40:F40) -> 2.5995346 | E33: =SUM('Verizon Income Statement'!F23:F24)/AVERAGE('Verizon Balance Sheet'!F40:G40) -> 2.6401746
A34: COGS / Average Accounts Payable
A36: Cash Conversion Cycle (DSO + DIO - DPO): | B36: =B37+B38-B39 -> -68.624536 | C36: =C37+C38-C39 -> -68.223851 | D36: =D37+D38-D39 -> -73.341868 | E36: =E37+E38-E39 -> -84.674906
A37: Days Sales Outstanding (365/AR Turnover) | B37: =365/B27 -> 69.932868 | C37: =365/C27 -> 67.770015 | D37: =365/D27 -> 59.377589 | E37: =365/E27 -> 44.864463
A38: Days Inventory Outstanding (365/Inventory Turnover) | B38: =365/B30 -> 9.1973651 | C38: =365/C30 -> 7.7921201 | D38: =365/D30 -> 7.6902927 | E38: =365/E30 -> 8.7090658
A39: Days Payables outstanding (365/AP Turnover) | B39: =365/B33 -> 147.75477 | C39: =365/C33 -> 143.78599 | D39: =365/D33 -> 140.40975 | E39: =365/E33 -> 138.24843
A40: CCC not including inventory | B40: =B37-B39 -> -77.821901 | C40: =C37-C39 -> -76.015971 | D40: =D37-D39 -> -81.03216 | E40: =E37-E39 -> -93.383972
A42: PPE Turnover | B42: ='Verizon Income Statement'!C19/AVERAGE('Verizon Balance Sheet'!C27:D27) -> 1.4554887 | C42: ='Verizon Income Statement'!D19/AVERAGE('Verizon Balance Sheet'!D27:E27) -> 1.4715778 | D42: ='Verizon Income Statement'!E19/AVERAGE('Verizon Balance Sheet'!E27:F27) -> 1.4543587 | E42: ='Verizon Income Statement'!F19/AVERAGE('Verizon Balance Sheet'!F27:G27) -> 1.4971597
A43: Sales / Average PPE Assets

Sheet Liquidity and Solvency
A2: Liquidity Ratios | C2: AT&T 2019 | D2: Verizon 2019
A3: Current Ratio | B3: current assets/current liabilities | C3: ='AT&T Balance Sheet'!C26/'AT&T Balance Sheet'!C47 -> 0.79466268 | D3: 0.84
A4: Quick Ratio | B4: (cash+marketable securities+accounts receivable)/current liabilities | C4: =('AT&T Balance Sheet'!C21+'AT&T Balance Sheet'!C23)/'AT&T Balance Sheet'!C47 -> 0.50450581 | D4: 0.62
A6: Solvency Ratio
A7: Liabilities-to-Equity Ratio | B7: total liabilities/stockholder's equity | C7: =('AT&T Balance Sheet'!C74-'AT&T Balance Sheet'!C73)/'AT&T Balance Sheet'!C73 -> 1.7319273 | D7: 3.64
A8: Total Debt-to-Equity Ratio | B8: (long-term debt including current portion+short term debt)/stockholder's equity | C8: =('AT&T Balance Sheet'!C42+'AT&T Balance Sheet'!C48)/'AT&T Balance Sheet'!C73 -> 0.80792239 | D8: 1.77
A10: 1 | B10: What is your assessment of the liquidity and solvency of your company in recent years? Comment on any observed trends.
A11: 2 | B11: How do your company’s business environment and business strategy affect the liquidity and solvency ratios?
A12: 3 | B12: Compare your firm’s liquidity and solvency with those of the competitor. What factors contribute to the differences in liquidity and solvency between your company and its competitor?
